BEGIN:VCALENDAR
VERSION:2.0
PRODID:-// - ECPv6.15.20//NONSGML v1.0//EN
CALSCALE:GREGORIAN
METHOD:PUBLISH
X-ORIGINAL-URL:https://flipperchapelame.org
X-WR-CALDESC:Events for 
REFRESH-INTERVAL;VALUE=DURATION:PT1H
X-Robots-Tag:noindex
X-PUBLISHED-TTL:PT1H
BEGIN:VTIMEZONE
TZID:UTC
BEGIN:STANDARD
TZOFFSETFROM:+0000
TZOFFSETTO:+0000
TZNAME:UTC
DTSTART:20210101T000000
END:STANDARD
END:VTIMEZONE
BEGIN:VEVENT
DTSTART;TZID=UTC:20220504T180000
DTEND;TZID=UTC:20220504T193000
DTSTAMP:20260423T195643
CREATED:20220426T002919Z
LAST-MODIFIED:20220426T002919Z
UID:2070-1651687200-1651692600@flipperchapelame.org
SUMMARY:Bible Application
DESCRIPTION:
URL:https://flipperchapelame.org/event/bible-application/
LOCATION:Flipper Chapel AME\, 708 Osceola Street\, Tallahassee\, FL\, 32310\, United States
END:VEVENT
BEGIN:VEVENT
DTSTART;TZID=UTC:20220504T173000
DTEND;TZID=UTC:20220504T180000
DTSTAMP:20260423T195643
CREATED:20220426T002744Z
LAST-MODIFIED:20220426T002744Z
UID:2066-1651685400-1651687200@flipperchapelame.org
SUMMARY:Prayer & Meditation
DESCRIPTION:
URL:https://flipperchapelame.org/event/prayer-meditation-4/
LOCATION:Flipper Chapel AME\, 708 Osceola Street\, Tallahassee\, FL\, 32310\, United States
END:VEVENT
BEGIN:VEVENT
DTSTART;TZID=UTC:20220503T180000
DTEND;TZID=UTC:20220503T190000
DTSTAMP:20260423T195643
CREATED:20220426T010616Z
LAST-MODIFIED:20220426T010616Z
UID:2102-1651600800-1651604400@flipperchapelame.org
SUMMARY:WMS Meeting
DESCRIPTION:
URL:https://flipperchapelame.org/event/wms-meeting/
END:VEVENT
BEGIN:VEVENT
DTSTART;TZID=UTC:20220502T183000
DTEND;TZID=UTC:20220502T193000
DTSTAMP:20260423T195643
CREATED:20220426T010303Z
LAST-MODIFIED:20220426T010303Z
UID:2096-1651516200-1651519800@flipperchapelame.org
SUMMARY:Official Board Meeting
DESCRIPTION:
URL:https://flipperchapelame.org/event/official-board-meeting/
END:VEVENT
BEGIN:VEVENT
DTSTART;TZID=UTC:20220501T110000
DTEND;TZID=UTC:20220501T120000
DTSTAMP:20260423T195643
CREATED:20220426T004827Z
LAST-MODIFIED:20220426T004827Z
UID:2084-1651402800-1651406400@flipperchapelame.org
SUMMARY:Communion Worship Service
DESCRIPTION:
URL:https://flipperchapelame.org/event/communion-worship-service/
LOCATION:Flipper Chapel AME\, 708 Osceola Street\, Tallahassee\, FL\, 32310\, United States
END:VEVENT
BEGIN:VEVENT
DTSTART;TZID=UTC:20220501T093000
DTEND;TZID=UTC:20220501T103000
DTSTAMP:20260423T195643
CREATED:20220426T004733Z
LAST-MODIFIED:20220426T004733Z
UID:2082-1651397400-1651401000@flipperchapelame.org
SUMMARY:Bible Discovery
DESCRIPTION:
URL:https://flipperchapelame.org/event/bible-discovery-2/
LOCATION:Flipper Chapel AME\, 708 Osceola Street\, Tallahassee\, FL\, 32310\, United States
END:VEVENT
BEGIN:VEVENT
DTSTART;TZID=UTC:20220426T180000
DTEND;TZID=UTC:20220426T190000
DTSTAMP:20260423T195643
CREATED:20220426T004545Z
LAST-MODIFIED:20220426T005737Z
UID:2080-1650996000-1650999600@flipperchapelame.org
SUMMARY:Bible Discovery Navigation Meeting
DESCRIPTION:
URL:https://flipperchapelame.org/event/bible-discovery-navigation-meeting/
LOCATION:Flipper Chapel AME\, 708 Osceola Street\, Tallahassee\, FL\, 32310\, United States
END:VEVENT
END:VCALENDAR