BEGIN:VCALENDAR
VERSION:2.0
PRODID:-// - ECPv6.15.20//NONSGML v1.0//EN
CALSCALE:GREGORIAN
METHOD:PUBLISH
X-ORIGINAL-URL:https://flipperchapelame.org
X-WR-CALDESC:Events for 
REFRESH-INTERVAL;VALUE=DURATION:PT1H
X-Robots-Tag:noindex
X-PUBLISHED-TTL:PT1H
BEGIN:VTIMEZONE
TZID:UTC
BEGIN:STANDARD
TZOFFSETFROM:+0000
TZOFFSETTO:+0000
TZNAME:UTC
DTSTART:20210101T000000
END:STANDARD
END:VTIMEZONE
BEGIN:VEVENT
DTSTART;TZID=UTC:20220531T180000
DTEND;TZID=UTC:20220531T190000
DTSTAMP:20260423T170528
CREATED:20220426T011201Z
LAST-MODIFIED:20220426T011411Z
UID:2110-1654020000-1654023600@flipperchapelame.org
SUMMARY:Bible Discovery Navigators Meeting
DESCRIPTION:
URL:https://flipperchapelame.org/event/bible-discovery-navigators-meeting/
END:VEVENT
BEGIN:VEVENT
DTSTART;VALUE=DATE:20220530
DTEND;VALUE=DATE:20220531
DTSTAMP:20260423T170528
CREATED:20220426T011750Z
LAST-MODIFIED:20220426T011750Z
UID:2116-1653868800-1653955199@flipperchapelame.org
SUMMARY:Memorial Day
DESCRIPTION:
URL:https://flipperchapelame.org/event/memorial-day/
END:VEVENT
BEGIN:VEVENT
DTSTART;TZID=UTC:20220529T093000
DTEND;TZID=UTC:20220529T223000
DTSTAMP:20260423T170528
CREATED:20220426T005431Z
LAST-MODIFIED:20220426T005431Z
UID:2093-1653816600-1653863400@flipperchapelame.org
SUMMARY:Bible Discovery
DESCRIPTION:
URL:https://flipperchapelame.org/event/bible-discovery-6/
END:VEVENT
BEGIN:VEVENT
DTSTART;TZID=UTC:20220526T190000
DTEND;TZID=UTC:20220526T210000
DTSTAMP:20260423T170528
CREATED:20220426T011641Z
LAST-MODIFIED:20220426T011641Z
UID:2114-1653591600-1653598800@flipperchapelame.org
SUMMARY:3rd Quarterly Conference
DESCRIPTION:
URL:https://flipperchapelame.org/event/3rd-quarterly-conference/
END:VEVENT
BEGIN:VEVENT
DTSTART;TZID=UTC:20220525T180000
DTEND;TZID=UTC:20220525T193000
DTSTAMP:20260423T170528
CREATED:20220426T003204Z
LAST-MODIFIED:20220426T003204Z
UID:2076-1653501600-1653507000@flipperchapelame.org
SUMMARY:Bible Application
DESCRIPTION:
URL:https://flipperchapelame.org/event/bible-application-4/
LOCATION:Flipper Chapel AME\, 708 Osceola Street\, Tallahassee\, FL\, 32310\, United States
END:VEVENT
BEGIN:VEVENT
DTSTART;TZID=UTC:20220525T173000
DTEND;TZID=UTC:20220525T180000
DTSTAMP:20260423T170528
CREATED:20220426T002528Z
LAST-MODIFIED:20220426T002724Z
UID:2058-1653499800-1653501600@flipperchapelame.org
SUMMARY:Prayer & Meditation
DESCRIPTION:
URL:https://flipperchapelame.org/event/prayer-meditation/
LOCATION:Flipper Chapel AME\, 708 Osceola Street\, Tallahassee\, FL\, 32310\, United States
END:VEVENT
BEGIN:VEVENT
DTSTART;TZID=UTC:20220523T180000
DTEND;TZID=UTC:20220523T190000
DTSTAMP:20260423T170528
CREATED:20220426T010508Z
LAST-MODIFIED:20220426T010508Z
UID:2100-1653328800-1653332400@flipperchapelame.org
SUMMARY:Steward/Trustee Meeting
DESCRIPTION:
URL:https://flipperchapelame.org/event/steward-trustee-meeting/
END:VEVENT
BEGIN:VEVENT
DTSTART;TZID=UTC:20220522T093000
DTEND;TZID=UTC:20220522T103000
DTSTAMP:20260423T170528
CREATED:20220426T005221Z
LAST-MODIFIED:20220426T005333Z
UID:2091-1653211800-1653215400@flipperchapelame.org
SUMMARY:Bible Discovery
DESCRIPTION:
URL:https://flipperchapelame.org/event/bible-discovery-5/
END:VEVENT
BEGIN:VEVENT
DTSTART;TZID=UTC:20220519T120000
DTEND;TZID=UTC:20220519T150000
DTSTAMP:20260423T170528
CREATED:20220426T011538Z
LAST-MODIFIED:20220426T011538Z
UID:2112-1652961600-1652972400@flipperchapelame.org
SUMMARY:Food Distrubution
DESCRIPTION:
URL:https://flipperchapelame.org/event/food-distrubution/
END:VEVENT
BEGIN:VEVENT
DTSTART;TZID=UTC:20220518T180000
DTEND;TZID=UTC:20220518T193000
DTSTAMP:20260423T170528
CREATED:20220426T003059Z
LAST-MODIFIED:20220426T003059Z
UID:2074-1652896800-1652902200@flipperchapelame.org
SUMMARY:Bible Application
DESCRIPTION:
URL:https://flipperchapelame.org/event/bible-application-3/
LOCATION:Flipper Chapel AME\, 708 Osceola Street\, Tallahassee\, FL\, 32310\, United States
END:VEVENT
BEGIN:VEVENT
DTSTART;TZID=UTC:20220518T173000
DTEND;TZID=UTC:20220518T180000
DTSTAMP:20260423T170528
CREATED:20220426T002654Z
LAST-MODIFIED:20220426T002654Z
UID:2064-1652895000-1652896800@flipperchapelame.org
SUMMARY:Prayer & Meditation
DESCRIPTION:
URL:https://flipperchapelame.org/event/prayer-meditation-3/
LOCATION:Flipper Chapel AME\, 708 Osceola Street\, Tallahassee\, FL\, 32310\, United States
END:VEVENT
BEGIN:VEVENT
DTSTART;TZID=UTC:20220517T180000
DTEND;TZID=UTC:20220517T190000
DTSTAMP:20260423T170528
CREATED:20220426T010920Z
LAST-MODIFIED:20220426T011059Z
UID:2108-1652810400-1652814000@flipperchapelame.org
SUMMARY:Christian Education Dept. Meeting
DESCRIPTION:
URL:https://flipperchapelame.org/event/christian-education-dept-meeting/
END:VEVENT
BEGIN:VEVENT
DTSTART;TZID=UTC:20220516T183000
DTEND;TZID=UTC:20220516T193000
DTSTAMP:20260423T170528
CREATED:20220426T010344Z
LAST-MODIFIED:20220426T010418Z
UID:2098-1652725800-1652729400@flipperchapelame.org
SUMMARY:Trustee Board Meeting
DESCRIPTION:
URL:https://flipperchapelame.org/event/trustee-board-meeting/
END:VEVENT
BEGIN:VEVENT
DTSTART;TZID=UTC:20220515T093000
DTEND;TZID=UTC:20220515T103000
DTSTAMP:20260423T170528
CREATED:20220426T005106Z
LAST-MODIFIED:20220426T005150Z
UID:2088-1652607000-1652610600@flipperchapelame.org
SUMMARY:Bible Discovery
DESCRIPTION:
URL:https://flipperchapelame.org/event/bible-discovery-4/
END:VEVENT
BEGIN:VEVENT
DTSTART;TZID=UTC:20220511T180000
DTEND;TZID=UTC:20220511T193000
DTSTAMP:20260423T170528
CREATED:20220426T002958Z
LAST-MODIFIED:20220426T002958Z
UID:2072-1652292000-1652297400@flipperchapelame.org
SUMMARY:Bible Application
DESCRIPTION:
URL:https://flipperchapelame.org/event/bible-application-2/
LOCATION:Flipper Chapel AME\, 708 Osceola Street\, Tallahassee\, FL\, 32310\, United States
END:VEVENT
BEGIN:VEVENT
DTSTART;TZID=UTC:20220511T173000
DTEND;TZID=UTC:20220511T180000
DTSTAMP:20260423T170528
CREATED:20220426T002632Z
LAST-MODIFIED:20220426T002632Z
UID:2065-1652290200-1652292000@flipperchapelame.org
SUMMARY:Prayer & Meditation
DESCRIPTION:
URL:https://flipperchapelame.org/event/prayer-meditation-2/
LOCATION:Flipper Chapel AME\, 708 Osceola Street\, Tallahassee\, FL\, 32310\, United States
END:VEVENT
BEGIN:VEVENT
DTSTART;TZID=UTC:20220510T183000
DTEND;TZID=UTC:20220510T193000
DTSTAMP:20260423T170528
CREATED:20220426T010757Z
LAST-MODIFIED:20220426T010757Z
UID:2106-1652207400-1652211000@flipperchapelame.org
SUMMARY:SOA Meeting
DESCRIPTION:
URL:https://flipperchapelame.org/event/soa-meeting/
END:VEVENT
BEGIN:VEVENT
DTSTART;TZID=UTC:20220510T173000
DTEND;TZID=UTC:20220510T183000
DTSTAMP:20260423T170528
CREATED:20220426T010716Z
LAST-MODIFIED:20220426T010716Z
UID:2104-1652203800-1652207400@flipperchapelame.org
SUMMARY:Usher Meeting
DESCRIPTION:
URL:https://flipperchapelame.org/event/usher-meeting/
END:VEVENT
BEGIN:VEVENT
DTSTART;TZID=UTC:20220508T093000
DTEND;TZID=UTC:20220508T103000
DTSTAMP:20260423T170528
CREATED:20220426T005024Z
LAST-MODIFIED:20220426T005024Z
UID:2086-1652002200-1652005800@flipperchapelame.org
SUMMARY:Bible Discovery
DESCRIPTION:
URL:https://flipperchapelame.org/event/bible-discovery-3/
END:VEVENT
BEGIN:VEVENT
DTSTART;VALUE=DATE:20220505
DTEND;VALUE=DATE:20220506
DTSTAMP:20260423T170528
CREATED:20220426T011836Z
LAST-MODIFIED:20220426T011836Z
UID:2118-1651708800-1651795199@flipperchapelame.org
SUMMARY:National Day of Prayer
DESCRIPTION:
URL:https://flipperchapelame.org/event/national-day-of-prayer/
END:VEVENT
BEGIN:VEVENT
DTSTART;TZID=UTC:20220504T180000
DTEND;TZID=UTC:20220504T193000
DTSTAMP:20260423T170528
CREATED:20220426T002919Z
LAST-MODIFIED:20220426T002919Z
UID:2070-1651687200-1651692600@flipperchapelame.org
SUMMARY:Bible Application
DESCRIPTION:
URL:https://flipperchapelame.org/event/bible-application/
LOCATION:Flipper Chapel AME\, 708 Osceola Street\, Tallahassee\, FL\, 32310\, United States
END:VEVENT
BEGIN:VEVENT
DTSTART;TZID=UTC:20220504T173000
DTEND;TZID=UTC:20220504T180000
DTSTAMP:20260423T170528
CREATED:20220426T002744Z
LAST-MODIFIED:20220426T002744Z
UID:2066-1651685400-1651687200@flipperchapelame.org
SUMMARY:Prayer & Meditation
DESCRIPTION:
URL:https://flipperchapelame.org/event/prayer-meditation-4/
LOCATION:Flipper Chapel AME\, 708 Osceola Street\, Tallahassee\, FL\, 32310\, United States
END:VEVENT
BEGIN:VEVENT
DTSTART;TZID=UTC:20220503T180000
DTEND;TZID=UTC:20220503T190000
DTSTAMP:20260423T170528
CREATED:20220426T010616Z
LAST-MODIFIED:20220426T010616Z
UID:2102-1651600800-1651604400@flipperchapelame.org
SUMMARY:WMS Meeting
DESCRIPTION:
URL:https://flipperchapelame.org/event/wms-meeting/
END:VEVENT
BEGIN:VEVENT
DTSTART;TZID=UTC:20220502T183000
DTEND;TZID=UTC:20220502T193000
DTSTAMP:20260423T170528
CREATED:20220426T010303Z
LAST-MODIFIED:20220426T010303Z
UID:2096-1651516200-1651519800@flipperchapelame.org
SUMMARY:Official Board Meeting
DESCRIPTION:
URL:https://flipperchapelame.org/event/official-board-meeting/
END:VEVENT
BEGIN:VEVENT
DTSTART;TZID=UTC:20220501T110000
DTEND;TZID=UTC:20220501T120000
DTSTAMP:20260423T170528
CREATED:20220426T004827Z
LAST-MODIFIED:20220426T004827Z
UID:2084-1651402800-1651406400@flipperchapelame.org
SUMMARY:Communion Worship Service
DESCRIPTION:
URL:https://flipperchapelame.org/event/communion-worship-service/
LOCATION:Flipper Chapel AME\, 708 Osceola Street\, Tallahassee\, FL\, 32310\, United States
END:VEVENT
BEGIN:VEVENT
DTSTART;TZID=UTC:20220501T093000
DTEND;TZID=UTC:20220501T103000
DTSTAMP:20260423T170528
CREATED:20220426T004733Z
LAST-MODIFIED:20220426T004733Z
UID:2082-1651397400-1651401000@flipperchapelame.org
SUMMARY:Bible Discovery
DESCRIPTION:
URL:https://flipperchapelame.org/event/bible-discovery-2/
LOCATION:Flipper Chapel AME\, 708 Osceola Street\, Tallahassee\, FL\, 32310\, United States
END:VEVENT
BEGIN:VEVENT
DTSTART;TZID=UTC:20220426T180000
DTEND;TZID=UTC:20220426T190000
DTSTAMP:20260423T170529
CREATED:20220426T004545Z
LAST-MODIFIED:20220426T005737Z
UID:2080-1650996000-1650999600@flipperchapelame.org
SUMMARY:Bible Discovery Navigation Meeting
DESCRIPTION:
URL:https://flipperchapelame.org/event/bible-discovery-navigation-meeting/
LOCATION:Flipper Chapel AME\, 708 Osceola Street\, Tallahassee\, FL\, 32310\, United States
END:VEVENT
END:VCALENDAR